BEGIN:VCALENDAR
VERSION:2.0
PRODID:-//wp-events-plugin.com//7.2.3.1//EN
TZID:America/New_York
X-WR-TIMEZONE:America/New_York
BEGIN:VEVENT
UID:3174@albertwisnerlibrary.org
DTSTART;TZID=America/New_York:20260206T150000
DTEND;TZID=America/New_York:20260206T163000
DTSTAMP:20251204T192100Z
URL:https://albertwisnerlibrary.org/events/unscripted-improv-the-library-2
 025-12-26-2026-01-02-2026-01-09-2026-01-16-2026-01-23-2026-01-30-2026-02-0
 6/
SUMMARY:Unscripted: Improv @ the Library
DESCRIPTION:Join the fun with our weekly improv group—where creativity\, 
 laughter\, and quick thinking take center stage! No script\, no pressure
 —just spontaneous scenes\, games\, and plenty of laughs. All experience 
 levels welcome. No registration needed\, just come on over!
CATEGORIES:Adult
END:VEVENT
BEGIN:VTIMEZONE
TZID:America/New_York
X-LIC-LOCATION:America/New_York
BEGIN:STANDARD
DTSTART:20251102T010000
TZOFFSETFROM:-0400
TZOFFSETTO:-0500
TZNAME:EST
END:STANDARD
END:VTIMEZONE
END:VCALENDAR