BEGIN:VCALENDAR
VERSION:2.0
PRODID:-//wp-events-plugin.com//7.2.3.1//EN
TZID:America/New_York
X-WR-TIMEZONE:America/New_York
BEGIN:VEVENT
UID:3509@albertwisnerlibrary.org
DTSTART;TZID=America/New_York:20260429T173000
DTEND;TZID=America/New_York:20260429T193000
DTSTAMP:20260422T191446Z
URL:https://albertwisnerlibrary.org/events/teen-dungeons-dragons-19/
SUMMARY:Teen Dungeons & Dragons
DESCRIPTION:Ages 13 – 18Join the adventure! Registration required.
CATEGORIES:Teen
END:VEVENT
BEGIN:VTIMEZONE
TZID:America/New_York
X-LIC-LOCATION:America/New_York
BEGIN:DAYLIGHT
DTSTART:20260308T030000
TZOFFSETFROM:-0500
TZOFFSETTO:-0400
TZNAME:EDT
END:DAYLIGHT
END:VTIMEZONE
END:VCALENDAR