BEGIN:VCALENDAR
VERSION:2.0
PRODID:-//wp-events-plugin.com//7.2.3.1//EN
TZID:America/New_York
X-WR-TIMEZONE:America/New_York
BEGIN:VEVENT
UID:1401@albertwisnerlibrary.org
DTSTART;TZID=America/New_York:20250529T173000
DTEND;TZID=America/New_York:20250529T193000
DTSTAMP:20250311T234343Z
URL:https://albertwisnerlibrary.org/events/teen-dice-potion-craft/
SUMMARY:Teen Dice Potion Craft
DESCRIPTION:Create a decorative potion bottle with a die inside. Shake it a
 nd see what number you get.
CATEGORIES:Teen
END:VEVENT
BEGIN:VTIMEZONE
TZID:America/New_York
X-LIC-LOCATION:America/New_York
BEGIN:DAYLIGHT
DTSTART:20250309T030000
TZOFFSETFROM:-0500
TZOFFSETTO:-0400
TZNAME:EDT
END:DAYLIGHT
END:VTIMEZONE
END:VCALENDAR