BEGIN:VCALENDAR
VERSION:2.0
PRODID:-//wp-events-plugin.com//7.2.3.1//EN
TZID:America/New_York
X-WR-TIMEZONE:America/New_York
BEGIN:VEVENT
UID:3492@albertwisnerlibrary.org
DTSTART;TZID=America/New_York:20260418T110000
DTEND;TZID=America/New_York:20260418T140000
DTSTAMP:20260415T183654Z
URL:https://albertwisnerlibrary.org/events/repair-cafe/
SUMMARY:Celebrate Earth Day at Albert Wisner Public Library!
DESCRIPTION:Join us for a lively\, library-wide event co-sponsored by Susta
 inable Warwick\, where you can explore practical\, earth-friendly programs
  available right here in Warwick. Meet local experts\, discover simple way
 s to reduce waste\, and take part in activities that make a real differenc
 e.\n\nExplore &amp\; Participate:\n\n 	Repair Café – bring knives\, lam
 ps\, small tech\, or textiles for repair\n 	Too Good To Toss – browse an
 d maybe take home a free\, reused item\n 	Lion's Eyeglass Recycling – do
 nate old eyeglasses\n 	Terracycle Collection – drop off used oral care p
 roducts + grab a free toothbrush\n 	Food Scraps Composting – view a comp
 osting display\n 	Coolest Recycling Drive – learn to recycle appliances 
 + grab a free magnet\n 	Recycle Coach App – get help sorting your recycl
 ables\n 	Plastic Film Recycling – drop off clean\, stretchy plastic\n 	H
 elpsy – find out what textiles you can recycle\n 	From Our Home to Yours
   - sign up\; maybe take home a free\, reused item\n 	Too Good To Go – 
 sign up to help reduce food waste &amp\; score discounted foods\n 	Library
  of Things - see what handy items you can borrow from AWPL and Florida Pub
 lic Library\n 	Interstate Waste Services - engage in recycling do's &amp\;
  don't s\n\nPlus Enjoy:\n\n 	11:00 AM – Free seedling giveaway (while su
 pplies last)\n 	11:30 AM – Family read-aloud &amp\; puppet show\n 	Free 
 Cookies provided by Too Good To Toss' Noble Pies Bakery and Cafe\n 	Crafts
  for Children provided by Wickham Works\n\nNo registration needed—just s
 top by\, get inspired\, and celebrate the planet with your community!\n
 🌎
CATEGORIES:Adult,Teen,Children
END:VEVENT
BEGIN:VTIMEZONE
TZID:America/New_York
X-LIC-LOCATION:America/New_York
BEGIN:DAYLIGHT
DTSTART:20260308T030000
TZOFFSETFROM:-0500
TZOFFSETTO:-0400
TZNAME:EDT
END:DAYLIGHT
END:VTIMEZONE
END:VCALENDAR