BEGIN:VCALENDAR
VERSION:2.0
PRODID:-//wp-events-plugin.com//7.2.3.1//EN
TZID:America/New_York
X-WR-TIMEZONE:America/New_York
BEGIN:VEVENT
UID:2222@albertwisnerlibrary.org
DTSTART;TZID=America/New_York:20260416T180000
DTEND;TZID=America/New_York:20260416T200000
DTSTAMP:20260308T194016Z
URL:https://albertwisnerlibrary.org/events/possible-program-2026-04-16/
SUMMARY:Dream Lanterns
DESCRIPTION:Who knew that last night’s bottle of cabernet could become to
 night’s showstopping lantern? Upcycling is our secret superpower\, trans
 forming the ordinary into the extraordinary. With a few snips\, swirls of 
 glue\, and a splash of imagination\, we’ll turn glass into glowing maste
 rpieces. Decoupage—fancy word\, super fun craft—lets you layer on colo
 r\, flair\, and personality\, making every lantern as unique as its maker.
  Space is limited\; ages 18+.\n\n
CATEGORIES:Adult
END:VEVENT
BEGIN:VTIMEZONE
TZID:America/New_York
X-LIC-LOCATION:America/New_York
BEGIN:DAYLIGHT
DTSTART:20260308T030000
TZOFFSETFROM:-0500
TZOFFSETTO:-0400
TZNAME:EDT
END:DAYLIGHT
END:VTIMEZONE
END:VCALENDAR