BEGIN:VCALENDAR
VERSION:2.0
PRODID:-//wp-events-plugin.com//7.2.3.1//EN
TZID:America/New_York
X-WR-TIMEZONE:America/New_York
BEGIN:VEVENT
UID:2550@albertwisnerlibrary.org
DTSTART;TZID=America/New_York:20260924T183000
DTEND;TZID=America/New_York:20260924T194500
DTSTAMP:20260206T191148Z
URL:https://albertwisnerlibrary.org/events/possible-program-2-2026-09-24/
SUMMARY:Estate Planning 101
DESCRIPTION:Wills and trusts are something that people frequently put off\,
  but now is the perfect time to get organized and make a plan. If you alre
 ady have a plan\, if it is five years old\, we recommend you review it wit
 h an attorney to keep up with the latest changes. Michael Wagner will disc
 uss estate planning and asset protection made simple in this 30-minute inf
 ormation session. You can ask questions and learn how to avoid probate\, p
 rotect your assets for the beneficiaries you select\, and prevent long-ter
 m care costs.
CATEGORIES:Adult
END:VEVENT
BEGIN:VTIMEZONE
TZID:America/New_York
X-LIC-LOCATION:America/New_York
BEGIN:DAYLIGHT
DTSTART:20260308T030000
TZOFFSETFROM:-0500
TZOFFSETTO:-0400
TZNAME:EDT
END:DAYLIGHT
END:VTIMEZONE
END:VCALENDAR