BEGIN:VCALENDAR
VERSION:2.0
PRODID:-//wp-events-plugin.com//7.2.3.1//EN
TZID:America/New_York
X-WR-TIMEZONE:America/New_York
BEGIN:VEVENT
UID:2766@albertwisnerlibrary.org
DTSTART;TZID=America/New_York:20260411T110000
DTEND;TZID=America/New_York:20260411T123000
DTSTAMP:20260304T213936Z
URL:https://albertwisnerlibrary.org/events/possible-earth-day-event/
SUMMARY:Water-wise Gardening
DESCRIPTION:Lately\, it feels like the weather can’t make up its mind—t
 oo dry one minute\, too wet the next. Discover smart gardening techniques 
 that help you conserve water during droughts and manage excess rainfall wh
 en the skies won’t quit. Garden smarter\, no matter what the forecast th
 rows your way.
CATEGORIES:Adult
END:VEVENT
BEGIN:VTIMEZONE
TZID:America/New_York
X-LIC-LOCATION:America/New_York
BEGIN:DAYLIGHT
DTSTART:20260308T030000
TZOFFSETFROM:-0500
TZOFFSETTO:-0400
TZNAME:EDT
END:DAYLIGHT
END:VTIMEZONE
END:VCALENDAR