BEGIN:VCALENDAR
VERSION:2.0
PRODID:-//wp-events-plugin.com//7.2.3.1//EN
TZID:America/New_York
X-WR-TIMEZONE:America/New_York
BEGIN:VEVENT
UID:3286@albertwisnerlibrary.org
DTSTART;TZID=America/New_York:20260412T130000
DTEND;TZID=America/New_York:20260412T150000
DTSTAMP:20260410T165933Z
URL:https://albertwisnerlibrary.org/events/poetry-event-with-mary-makofske
 /
SUMMARY:Celebrate National Poetry Month! What's Your Favorite Poem?
DESCRIPTION:We know you’re out there\, closet poetry lovers. Come share y
 our favorite poem or two\, ones stashed away or carried in your pocket or 
 memory. We invite local elected officials\, business owners\, healthcare w
 orkers\, educators\, teenagers\, children\, etc.\, even published poets\, 
 to read poems (not ones you have written) in celebration of the way poetry
  enriches our lives. A great way to hear some poems you may not know.
CATEGORIES:Adult
END:VEVENT
BEGIN:VTIMEZONE
TZID:America/New_York
X-LIC-LOCATION:America/New_York
BEGIN:DAYLIGHT
DTSTART:20260308T030000
TZOFFSETFROM:-0500
TZOFFSETTO:-0400
TZNAME:EDT
END:DAYLIGHT
END:VTIMEZONE
END:VCALENDAR