BEGIN:VCALENDAR
VERSION:2.0
PRODID:-//wp-events-plugin.com//7.2.3.1//EN
TZID:America/New_York
X-WR-TIMEZONE:America/New_York
BEGIN:VEVENT
UID:1935@albertwisnerlibrary.org
DTSTART;TZID=America/New_York:20260419T140000
DTEND;TZID=America/New_York:20260419T150000
DTSTAMP:20260304T213410Z
URL:https://albertwisnerlibrary.org/events/music-on-mcfarland-presents-den
 i-bonet/
SUMMARY:Music on McFarland presents Deni Bonet & Chris Flynn
DESCRIPTION:Deni Bonet &amp\; Chris Flynn are an Americana duo known for vi
 rtuoso violin &amp\; guitar\, expressive vocals\, engaging performances\, 
 original music\, and strong musical chemistry. Together they play quirky\,
  melodic and fun folk-rock for all ages. They have performed at venues inc
 luding Carnegie Hall\, Lincoln Center\, and the Great Wall of China\, and 
 have collaborated with artists such as Cyndi Lauper\, R.E.M.\, The Chiefta
 ins\, and Ronnie Spector\, and many others.\n\n“Together they remind me 
 of George Burns and Gracie Allen\, or Lucy and Ricky\; their banter\, char
 isma and musicality combine to create a playful\, lively\, sometimes surpr
 ising performance.”  ~ Linda Bolton\, Cozy Cabin Concerts\n
CATEGORIES:Adult
END:VEVENT
BEGIN:VTIMEZONE
TZID:America/New_York
X-LIC-LOCATION:America/New_York
BEGIN:DAYLIGHT
DTSTART:20260308T030000
TZOFFSETFROM:-0500
TZOFFSETTO:-0400
TZNAME:EDT
END:DAYLIGHT
END:VTIMEZONE
END:VCALENDAR