BEGIN:VCALENDAR
VERSION:2.0
PRODID:-//wp-events-plugin.com//7.2.3.1//EN
TZID:America/New_York
X-WR-TIMEZONE:America/New_York
BEGIN:VEVENT
UID:1678@albertwisnerlibrary.org
DTSTART;TZID=America/New_York:20250520T173000
DTEND;TZID=America/New_York:20250520T190000
DTSTAMP:20250520T204227Z
URL:https://albertwisnerlibrary.org/events/movie-night-with-nachos/
SUMMARY:Creativity Lab - Movie Night with Nachos
DESCRIPTION:Bring your favorite cushion and get comfortable in the Storytim
 e Room to watch a movie. Help us chose the movie by adding your suggestion
  to our clipboard in the Creativity Lab display in the Children’s Room. 
 Nachos included.\n\n9 - 12 years.
CATEGORIES:Children
END:VEVENT
BEGIN:VTIMEZONE
TZID:America/New_York
X-LIC-LOCATION:America/New_York
BEGIN:DAYLIGHT
DTSTART:20250309T030000
TZOFFSETFROM:-0500
TZOFFSETTO:-0400
TZNAME:EDT
END:DAYLIGHT
END:VTIMEZONE
END:VCALENDAR