BEGIN:VCALENDAR
VERSION:2.0
PRODID:-//wp-events-plugin.com//7.2.3.1//EN
TZID:America/New_York
X-WR-TIMEZONE:America/New_York
BEGIN:VEVENT
UID:1259@albertwisnerlibrary.org
DTSTART;TZID=America/New_York:20250408T090000
DTEND;TZID=America/New_York:20250408T210000
DTSTAMP:20250328T154911Z
URL:https://albertwisnerlibrary.org/events/library-annual-tax-levy-trustee
 -vote/
SUMMARY:Library Annual Tax Levy & Trustee Vote
DESCRIPTION:All registered voters who reside in the Warwick Valley Central 
 School District are eligible to vote on the Library's proposed tax levy in
 crease for fiscal year 2025/2026\, and on the three candidates running for
  two five-year terms on the Board of Trustees.  Voting will be held in th
 e Community Room on the lower level from 9:00am to 9:00pm.  Complete deta
 ils about the proposed tax levy increase and Trustee vote may be found her
 e.
CATEGORIES:Adult,Teen
END:VEVENT
BEGIN:VTIMEZONE
TZID:America/New_York
X-LIC-LOCATION:America/New_York
BEGIN:DAYLIGHT
DTSTART:20250309T030000
TZOFFSETFROM:-0500
TZOFFSETTO:-0400
TZNAME:EDT
END:DAYLIGHT
END:VTIMEZONE
END:VCALENDAR