BEGIN:VCALENDAR
VERSION:2.0
PRODID:-//wp-events-plugin.com//7.2.3.1//EN
TZID:America/New_York
X-WR-TIMEZONE:America/New_York
BEGIN:VEVENT
UID:2910@albertwisnerlibrary.org
DTSTART;TZID=America/New_York:20260408T180000
DTEND;TZID=America/New_York:20260408T193000
DTSTAMP:20260309T155932Z
URL:https://albertwisnerlibrary.org/events/cybersecurity-for-everybody/
SUMMARY:Cybersecurity for Everybody
DESCRIPTION:Join Mary McLean\, Prof. of Information Technology at Dominican
  University\, for a workshopthat helps everyday technology users build con
 fidence and stay secure while using the internet and their phones. Partici
 pants will learn what cybersecurity is and why it’s important\, recogniz
 e common online threats such as scams and phishing\, and explore simple\, 
 practical strategies to protect their information. Leave feeling empowered
  to make smart\, secure choices with your devices.
CATEGORIES:Adult
END:VEVENT
BEGIN:VTIMEZONE
TZID:America/New_York
X-LIC-LOCATION:America/New_York
BEGIN:DAYLIGHT
DTSTART:20260308T030000
TZOFFSETFROM:-0500
TZOFFSETTO:-0400
TZNAME:EDT
END:DAYLIGHT
END:VTIMEZONE
END:VCALENDAR