BEGIN:VCALENDAR
VERSION:2.0
PRODID:-//wp-events-plugin.com//7.2.3.1//EN
TZID:America/New_York
X-WR-TIMEZONE:America/New_York
BEGIN:VEVENT
UID:2936@albertwisnerlibrary.org
DTSTART;TZID=America/New_York:20260416T113000
DTEND;TZID=America/New_York:20260416T123000
DTSTAMP:20260309T160117Z
URL:https://albertwisnerlibrary.org/events/best-brain-health-with-melinda-
 burgard-2/
SUMMARY:BEST BRAIN HEALTH with Melinda Burgard
DESCRIPTION:Bring your sense of humor and curiosity to this fun\, interacti
 ve group that uses music and movement to support brain health for all seni
 ors. The program is built around SPECS—a set of evidence-based practices
  that promote Social connection\, Physical health\, Emotional expression\,
  Cognitive stimulation\, and Spiritual exploration (in whatever way it’s
  meaningful to you).\nFacilitator Melinda M. Burgard\, a NYS Licensed Crea
 tive Arts Therapist with a Master’s in Music Therapy from NYU\, has over
  30 years of experience integrating the arts and brain health. Passionate 
 about lifelong learning\, Melinda stays up to date with the latest researc
 h on aging and mental wellness.
CATEGORIES:Adult
END:VEVENT
BEGIN:VTIMEZONE
TZID:America/New_York
X-LIC-LOCATION:America/New_York
BEGIN:DAYLIGHT
DTSTART:20260308T030000
TZOFFSETFROM:-0500
TZOFFSETTO:-0400
TZNAME:EDT
END:DAYLIGHT
END:VTIMEZONE
END:VCALENDAR