BEGIN:VCALENDAR
VERSION:2.0
PRODID:-//wp-events-plugin.com//7.2.3.1//EN
TZID:America/New_York
X-WR-TIMEZONE:America/New_York
BEGIN:VEVENT
UID:1782@albertwisnerlibrary.org
DTSTART;TZID=America/New_York:20250430T163000
DTEND;TZID=America/New_York:20250430T173000
DTSTAMP:20250416T182324Z
URL:https://albertwisnerlibrary.org/events/2025-scholarship-committee-meet
 ing/
SUMMARY:2025 Scholarship Committee Meeting
DESCRIPTION:
CATEGORIES:Adult
END:VEVENT
BEGIN:VTIMEZONE
TZID:America/New_York
X-LIC-LOCATION:America/New_York
BEGIN:DAYLIGHT
DTSTART:20250309T030000
TZOFFSETFROM:-0500
TZOFFSETTO:-0400
TZNAME:EDT
END:DAYLIGHT
END:VTIMEZONE
END:VCALENDAR